BEGIN:VCALENDAR
VERSION:2.0
PRODID:-//81.169.145.80//NONSGML kigkonsult.se iCalcreator 2.20//
CALSCALE:GREGORIAN
METHOD:PUBLISH
X-WR-TIMEZONE:Europe/Berlin
BEGIN:VEVENT
UID:event453@NHV Spechbach e.V.
DTSTAMP:20260422T081619Z
CATEGORIES:Jahreshauptversammlung
DESCRIPTION:Jahreshauptversammlung\nVeranstaltungsart: Jahreshauptversammlu
 ng\nICS-Link: https://www.nhv-spechbach.de/index.php?option=com_jem&view=e
 vent&id=453:jahreshauptversammlung\n
DTSTART;TZID=Europe/Berlin:20230315T193000
DTEND;TZID=Europe/Berlin:20230315T193000
LOCATION:Scheune von Otto & Adelheid Müller\,Oberstraße 19\,74927 Eschelbro
 nn
SUMMARY:Jahreshauptversammlung
URL:https://www.nhv-spechbach.de/index.php?option=com_jem&view=event&id=453
 :jahreshauptversammlung
END:VEVENT
END:VCALENDAR