BEGIN:VCALENDAR
VERSION:2.0
PRODID:-//81.169.145.80//NONSGML kigkonsult.se iCalcreator 2.20//
CALSCALE:GREGORIAN
METHOD:PUBLISH
X-WR-TIMEZONE:Europe/Berlin
BEGIN:VEVENT
UID:event474@NHV Spechbach e.V.
DTSTAMP:20260420T101147Z
CATEGORIES:Pilzbestimmung
DESCRIPTION:Vitalpilzwanderung: Pilze im Dezember\nVeranstaltungsart: Pilzb
 estimmung\nICS-Link: https://www.nhv-spechbach.de/index.php?option=com_jem
 &view=event&id=474:vitalpilzwanderung-pilze-im-dezember\n
DTSTART;TZID=Europe/Berlin:20231203T093000
DTEND;TZID=Europe/Berlin:20231203T130000
LOCATION:Weitere Informationen in den Veranstaltungsdetails
SUMMARY:Vitalpilzwanderung: Pilze im Dezember
URL:https://www.nhv-spechbach.de/index.php?option=com_jem&view=event&id=474
 :vitalpilzwanderung-pilze-im-dezember
END:VEVENT
END:VCALENDAR