BEGIN:VCALENDAR
VERSION:2.0
PRODID:-//81.169.145.80//NONSGML kigkonsult.se iCalcreator 2.20//
CALSCALE:GREGORIAN
METHOD:PUBLISH
X-WR-TIMEZONE:Europe/Berlin
BEGIN:VEVENT
UID:event406@NHV Spechbach e.V.
DTSTAMP:20260422T085226Z
CATEGORIES:Workshop
DESCRIPTION:Die Rauhnächte – die Zeit zwischen der Zeit\nVeranstaltungsart:
  Workshop\nICS-Link: https://www.nhv-spechbach.de/index.php?option=com_jem
 &view=event&id=406:die-rauhnächte-–-die-zeit-zwischen-der-zeit\n
DTSTART;TZID=Europe/Berlin:20211218T150000
DTEND;TZID=Europe/Berlin:20211218T180000
LOCATION:Findet als kostenpflichtige Online-Veranstaltung s
SUMMARY:Die Rauhnächte – die Zeit zwischen der Zeit
END:VEVENT
END:VCALENDAR