BEGIN:VCALENDAR
VERSION:2.0
PRODID:-//81.169.145.80//NONSGML kigkonsult.se iCalcreator 2.20//
CALSCALE:GREGORIAN
METHOD:PUBLISH
X-WR-TIMEZONE:Europe/Berlin
BEGIN:VEVENT
UID:event456@NHV Spechbach e.V.
DTSTAMP:20260419T141325Z
CATEGORIES:Vortrag
DESCRIPTION:Zurück ins Herz\nVeranstaltungsart: Vortrag\nICS-Link: https://
 www.nhv-spechbach.de/index.php?option=com_jem&view=event&id=456:zurück-ins
 -herz\n
DTSTART;TZID=Europe/Berlin:20230426T193000
DTEND;TZID=Europe/Berlin:20230426T193000
LOCATION:Scheune von Otto & Adelheid Müller\,Oberstraße 19\,74927 Eschelbro
 nn
SUMMARY:Zurück ins Herz
END:VEVENT
END:VCALENDAR