BEGIN:VCALENDAR
VERSION:2.0
PRODID:-//81.169.145.80//NONSGML kigkonsult.se iCalcreator 2.20//
CALSCALE:GREGORIAN
METHOD:PUBLISH
X-WR-TIMEZONE:Europe/Berlin
BEGIN:VEVENT
UID:event463@NHV Spechbach e.V.
DTSTAMP:20260419T130431Z
CATEGORIES:Workshop
DESCRIPTION:Das Konzept der „gewaltfreien Kommunikation“ nach Dr. phil. Mar
 shall Rosenberg\nVeranstaltungsart: Workshop\nICS-Link: https://www.nhv-sp
 echbach.de/index.php?option=com_jem&view=event&id=463:das-konzept-der-„gew
 altfreien-kommunikation“-nach-dr-phil-marshall-rosenberg\n
DTSTART;TZID=Europe/Berlin:20230722T133000
DTEND;TZID=Europe/Berlin:20230722T173000
LOCATION:Scheune von Otto & Adelheid Müller\,Oberstraße 19\,74927 Eschelbro
 nn
SUMMARY:Das Konzept der „gewaltfreien Kommunikation“ nach Dr. phil. Marshal
 l Rosenberg
END:VEVENT
END:VCALENDAR