BEGIN:VCALENDAR
VERSION:2.0
PRODID:-//81.169.145.80//NONSGML kigkonsult.se iCalcreator 2.20//
CALSCALE:GREGORIAN
METHOD:PUBLISH
X-WR-TIMEZONE:Europe/Berlin
BEGIN:VEVENT
UID:event479@NHV Spechbach e.V.
DTSTAMP:20260420T084514Z
CATEGORIES:Vortrag
DESCRIPTION:Heilkraft aus Pflanzenknospen – die Gemmotherapie\nVeranstaltun
 gsart: Vortrag\nICS-Link: https://www.nhv-spechbach.de/index.php?option=co
 m_jem&view=event&id=479:heilkraft-aus-pflanzenknospen-–-die-gemmotherapie
 \n
DTSTART;TZID=Europe/Berlin:20240207T193000
DTEND;TZID=Europe/Berlin:20240207T193000
LOCATION:Scheune von Otto & Adelheid Müller\,Oberstraße 19\,74927 Eschelbro
 nn
SUMMARY:Heilkraft aus Pflanzenknospen – die Gemmotherapie
END:VEVENT
END:VCALENDAR