BEGIN:VCALENDAR
VERSION:2.0
PRODID:-//81.169.145.80//NONSGML kigkonsult.se iCalcreator 2.20//
CALSCALE:GREGORIAN
METHOD:PUBLISH
X-WR-TIMEZONE:Europe/Berlin
BEGIN:VEVENT
UID:event490@NHV Spechbach e.V.
DTSTAMP:20260419T124348Z
CATEGORIES:Wanderung
DESCRIPTION:Waldbaden - mit allen Sinnen im Wald\nVeranstaltungsart: Wander
 ung\nICS-Link: https://www.nhv-spechbach.de/index.php?option=com_jem&view=
 event&id=490:waldbaden-mit-allen-sinnen-im-wald\n
DTSTART;TZID=Europe/Berlin:20240511T100000
DTEND;TZID=Europe/Berlin:20240511T130000
LOCATION:Weitere Informationen in den Veranstaltungsdetails
SUMMARY:Waldbaden - mit allen Sinnen im Wald
URL:https://www.nhv-spechbach.de/index.php?option=com_jem&view=event&id=490
 :waldbaden-mit-allen-sinnen-im-wald
END:VEVENT
END:VCALENDAR