BEGIN:VCALENDAR
VERSION:2.0
PRODID:-//81.169.145.80//NONSGML kigkonsult.se iCalcreator 2.20//
CALSCALE:GREGORIAN
METHOD:PUBLISH
X-WR-TIMEZONE:Europe/Berlin
BEGIN:VEVENT
UID:event496@NHV Spechbach e.V.
DTSTAMP:20260422T092715Z
CATEGORIES:Sonstiges
DESCRIPTION:SOMMERPAUSE BIS ENDE AUGUST 2024\nVeranstaltungsart: Sonstiges
 \nICS-Link: https://www.nhv-spechbach.de/index.php?option=com_jem&view=eve
 nt&id=496:sommerpause-bis-ende-august-2024\n
DTSTART;VALUE=DATE:20240731
DTEND;VALUE=DATE:20240831
SUMMARY:SOMMERPAUSE BIS ENDE AUGUST 2024
URL:https://www.nhv-spechbach.de/index.php?option=com_jem&view=event&id=496
 :sommerpause-bis-ende-august-2024
END:VEVENT
END:VCALENDAR