BEGIN:VCALENDAR
VERSION:2.0
PRODID:-//81.169.145.80//NONSGML kigkonsult.se iCalcreator 2.20//
CALSCALE:GREGORIAN
METHOD:PUBLISH
X-WR-TIMEZONE:Europe/Berlin
BEGIN:VEVENT
UID:event498@NHV Spechbach e.V.
DTSTAMP:20260420T100705Z
CATEGORIES:Vortrag
DESCRIPTION:Die Kraft der Lichtessenzen\nVeranstaltungsart: Vortrag\nICS-Li
 nk: https://www.nhv-spechbach.de/index.php?option=com_jem&view=event&id=49
 8:die-kraft-der-lichtessenzen\n
DTSTART;TZID=Europe/Berlin:20240911T193000
DTEND;TZID=Europe/Berlin:20240911T193000
LOCATION:Scheune von Otto & Adelheid Müller\,Oberstraße 19\,74927 Eschelbro
 nn
SUMMARY:Die Kraft der Lichtessenzen
URL:https://www.nhv-spechbach.de/index.php?option=com_jem&view=event&id=498
 :die-kraft-der-lichtessenzen
END:VEVENT
END:VCALENDAR