BEGIN:VCALENDAR
VERSION:2.0
PRODID:-//81.169.145.80//NONSGML kigkonsult.se iCalcreator 2.20//
CALSCALE:GREGORIAN
METHOD:PUBLISH
X-WR-TIMEZONE:Europe/Berlin
BEGIN:VEVENT
UID:event501@NHV Spechbach e.V.
DTSTAMP:20260421T123847Z
CATEGORIES:Vortrag
DESCRIPTION:Windkraft naturverträglich ausbauen\nVeranstaltungsart: Vortrag
 \nICS-Link: https://www.nhv-spechbach.de/index.php?option=com_jem&view=eve
 nt&id=501:windkraft-naturverträglich-ausbauen\n
DTSTART;TZID=Europe/Berlin:20241023T193000
DTEND;TZID=Europe/Berlin:20241023T193000
LOCATION:Scheune von Otto & Adelheid Müller\,Oberstraße 19\,74927 Eschelbro
 nn
SUMMARY:Windkraft naturverträglich ausbauen
END:VEVENT
END:VCALENDAR