BEGIN:VCALENDAR
VERSION:2.0
PRODID:-//81.169.145.80//NONSGML kigkonsult.se iCalcreator 2.20//
CALSCALE:GREGORIAN
METHOD:PUBLISH
X-WR-TIMEZONE:Europe/Berlin
BEGIN:VEVENT
UID:event504@NHV Spechbach e.V.
DTSTAMP:20260420T140002Z
CATEGORIES:Pilzbestimmung
DESCRIPTION:Vitalpilzwanderung: Pilze im November\nVeranstaltungsart: Pilzb
 estimmung\nICS-Link: https://www.nhv-spechbach.de/index.php?option=com_jem
 &view=event&id=504:vitalpilzwanderung-pilze-im-november\n
DTSTART;TZID=Europe/Berlin:20241130T100000
DTEND;TZID=Europe/Berlin:20241130T133000
LOCATION:Siehe Veranstaltungsdetails
SUMMARY:Vitalpilzwanderung: Pilze im November
URL:https://www.nhv-spechbach.de/index.php?option=com_jem&view=event&id=504
 :vitalpilzwanderung-pilze-im-november
END:VEVENT
END:VCALENDAR