BEGIN:VCALENDAR
VERSION:2.0
PRODID:-//81.169.145.80//NONSGML kigkonsult.se iCalcreator 2.20//
CALSCALE:GREGORIAN
METHOD:PUBLISH
X-WR-TIMEZONE:Europe/Berlin
BEGIN:VEVENT
UID:event507@NHV Spechbach e.V.
DTSTAMP:20260420T111257Z
CATEGORIES:Vortrag
DESCRIPTION:Sperr-Dunkel-Rauhnächte\nVeranstaltungsart: Vortrag\nICS-Link: 
 https://www.nhv-spechbach.de/index.php?option=com_jem&view=event&id=507:sp
 err-dunkel-rauhnächte\n
DTSTART;TZID=Europe/Berlin:20241218T193000
DTEND;TZID=Europe/Berlin:20241218T193000
LOCATION:Scheune von Otto & Adelheid Müller\,Oberstraße 19\,74927 Eschelbro
 nn
SUMMARY:Sperr-Dunkel-Rauhnächte
END:VEVENT
END:VCALENDAR