BEGIN:VCALENDAR
VERSION:2.0
PRODID:-//81.169.145.80//NONSGML kigkonsult.se iCalcreator 2.20//
CALSCALE:GREGORIAN
METHOD:PUBLISH
X-WR-TIMEZONE:Europe/Berlin
BEGIN:VEVENT
UID:event526@NHV Spechbach e.V.
DTSTAMP:20260420T084447Z
CATEGORIES:Workshop
DESCRIPTION:Salbenherstellung rasch & effektiv für die eigene Hausapotheke
 \nVeranstaltungsart: Workshop\nICS-Link: https://www.nhv-spechbach.de/inde
 x.php?option=com_jem&view=event&id=526:salbenherstellung-rasch-effektiv-fü
 r-die-eigene-hausapotheke\n
DTSTART;TZID=Europe/Berlin:20250712T110000
DTEND;TZID=Europe/Berlin:20250712T140000
LOCATION:Scheune von Otto & Adelheid Müller\,Oberstraße 19\,74927 Eschelbro
 nn
SUMMARY:Salbenherstellung rasch & effektiv für die eigene Hausapotheke
END:VEVENT
END:VCALENDAR